BEGIN:VCALENDAR
VERSION:2.0
PRODID:-//eventon.com NONSGML v1.0//EN
BEGIN:VEVENT
UID:69e6354c1ffe6
DTSTAMP:20260420T151644
DTSTART:20260508T183000Z
DTEND:20260508T192500Z
TZID:Europe/Amsterdam
LOCATION:
SUMMARY:Gerson Main & Productiehuis Mozaïek
DESCRIPTION: Vrijdag 8 mei 2026 in Schouwburg Tilburg – Studio Gerson Main neemt je mee naar de foyer van een verzorgingshuis. Een plek waar ouder worden zichtbaar is. Waar verlies en angst naast acceptatie en wijsheid staan. In Weg van dit feestje brengt hij samen met zijn band een mix van[..]\nhttps://stichting-2gether.nl/events/gerson-main-productiehuis-mozaiek/
URL:https://stichting-2gether.nl/events/gerson-main-productiehuis-mozaiek/
END:VEVENT
END:VCALENDAR