BEGIN:VCALENDAR
VERSION:2.0
PRODID:-//eventon.com NONSGML v1.0//EN
BEGIN:VEVENT
UID:69e634a5d785f
DTSTAMP:20260420T151357
DTSTART:20260530T180000Z
DTEND:20260530T180000Z
TZID:Europe/Amsterdam
LOCATION:
SUMMARY:Kaseko in Concert
DESCRIPTION: Kaseko in Concert Een avond die je voelt.Ritme dat blijft hangen. Met een 16-koppige band reis je door de Surinaamse muziek.Van de jaren 50 tot nu.Van klassiekers tot nieuwe sounds. Met muziek van Conjunto Latinos\,  Cosmo Stars en Master Blasters. Gastheer Clifton Braam brengt humor en energie. Dit is geen[..]\nhttps://stichting-2gether.nl/events/kaseko-in-concert-2/
URL:https://stichting-2gether.nl/events/kaseko-in-concert-2/
END:VEVENT
END:VCALENDAR