BEGIN:VCALENDAR
VERSION:2.0
PRODID:-//eventon.com NONSGML v1.0//EN
BEGIN:VEVENT
UID:69e634a60c7ec
DTSTAMP:20260420T151358
DTSTART:20260606T183000Z
DTEND:20260606T063000Z
TZID:Europe/Amsterdam
LOCATION:
SUMMARY:Jeffrey Spalburg\,  Keti Koti Concerence
DESCRIPTION: Jeffrey Spalburg\,  Keti Koti Concerence Keti Koti Conference is een cabaretvoorstelling over de afschaffing van de slavernij en waarom dit verhaal nog steeds belangrijk is. Met humor en scherpe inzichten nemen Jeffrey Spalburg en DJ Phantom je mee in ons gedeelde verleden. Ze maken het onderwerp begrijpelijk\,  persoonlijk en actueel.[..]\nhttps://stichting-2gether.nl/events/jeffrey-spalburg-keti-koti-concerence/
URL:https://stichting-2gether.nl/events/jeffrey-spalburg-keti-koti-concerence/
END:VEVENT
END:VCALENDAR